BEGIN:VCALENDAR
VERSION:2.0
PRODID:-//CHAMBER DASHBOARD//EVENTS CALENDAR2.0//EN
CALSCALE:GREGORIAN
BEGIN:VEVENT
DTEND:20240826T140000Z
UID:69e4d2a2c2827
DTSTAMP:20260419T130330Z
CATEGORIES:Chamber Events
LOCATION:McDonalds - 10841 Imperial Hwy., Norwalk, CA 90650 
DESCRIPTION:Help celebrate the remodel of McDonald's Restaurant and go digital!
URL;VALUE=URI:https://norwalkchamber.com/event/mcdonalds-restaurantdigital-re-grand-opening/
SUMMARY:McDonald&#039\;s Restaurant Digital Re-Grand Opening
DTSTART:20240826T120000Z
END:VEVENT
END:VCALENDAR
