BEGIN:VCALENDAR
VERSION:2.0
PRODID:-//CHAMBER DASHBOARD//EVENTS CALENDAR2.0//EN
CALSCALE:GREGORIAN
BEGIN:VEVENT
DTEND:20240311T190000Z
UID:69e88a51a4251
DTSTAMP:20260422T084401Z
CATEGORIES:Community Events
LOCATION:El Baja Mexican Restaurant 11521 Firestone Blvd. Norwalk CA 90650 
DESCRIPTION:Come meet Norwalk Mayor Margarita Rios at El Baja Mexican Restaurant on Monday\, March 11th from 5pm to 7pm.
URL;VALUE=URI:https://norwalkchamber.com/event/meet-the-mayor/
SUMMARY:Meet the Mayor
DTSTART:20240311T170000Z
END:VEVENT
END:VCALENDAR
