BEGIN:VCALENDAR
VERSION:2.0
PRODID:-//CHAMBER DASHBOARD//EVENTS CALENDAR2.0//EN
CALSCALE:GREGORIAN
BEGIN:VEVENT
DTEND:20251006T180000Z
UID:69e5edc897075
DTSTAMP:20260420T091136Z
CATEGORIES:Ribbon Cutting Event
LOCATION:11205 Imperial Hwy Norwalk CA 90650 
DESCRIPTION:Mujeres Extraordinarias Foundation invites you to their Ribbon Cutting and Installation of Officers on Monday\, October 6th at 6pm. They are  located inside El Clasificado\, 11205 Imperial Hwy Norwalk CA.
URL;VALUE=URI:https://norwalkchamber.com/event/mujeres-extraordinarias-ribbon-cutting/
SUMMARY:Mujeres Extraordinarias Ribbon Cutting
DTSTART:20251006T180000Z
END:VEVENT
END:VCALENDAR
