BEGIN:VCALENDAR
VERSION:2.0
PRODID:-//CHAMBER DASHBOARD//EVENTS CALENDAR2.0//EN
CALSCALE:GREGORIAN
BEGIN:VEVENT
DTEND:20240916T213000Z
UID:69e5eb8bb4c6a
DTSTAMP:20260420T090203Z
CATEGORIES:Chamber Events
LOCATION:Angels Stadium Rose Garden 
DESCRIPTION:Join the Norwalk Chamber and over 15 other local Chambers of Commerce for an Angels Baseball Mixer &amp\; Game.  Monday\, September 16th starting at 5pm in the Rose Garden for the Mixer and then in sections 106 and 108 for the game.  Tickets can be purchased on our website or by contacting the Chamber at 562-404-0909 or by email to info@norwalkchamber.com.
URL;VALUE=URI:https://norwalkchamber.com/event/multi-chamber-angels-baseball-mixer/
SUMMARY:Multi Chamber Angels Baseball Mixer
DTSTART:20240916T170000Z
END:VEVENT
END:VCALENDAR
