BEGIN:VCALENDAR
VERSION:2.0
PRODID:-//CHAMBER DASHBOARD//EVENTS CALENDAR2.0//EN
CALSCALE:GREGORIAN
BEGIN:VEVENT
DTEND:20260520T183000Z
UID:69e602894127c
DTSTAMP:20260420T104009Z
DESCRIPTION:Join the Norwalk Chamber\, along with the Artesia\, Cerritos\, La Mirada and Pico Rivera Chambers of Commerce for an after hours Networking Mixer at Budget Car Rentals on Wednesday\, May 20th from 4:30pm to 6:30pm.  Address is 12541 Rosecrans Ave. Norwalk CA.  Parking is available on Front St. Light refreshments will be served.
URL;VALUE=URI:https://norwalkchamber.com/event/multi-chamber-networking-mixer-2/
SUMMARY:Multi Chamber Networking Mixer
DTSTART:20260520T163000Z
END:VEVENT
END:VCALENDAR
