BEGIN:VCALENDAR
VERSION:2.0
PRODID:-//CHAMBER DASHBOARD//EVENTS CALENDAR2.0//EN
CALSCALE:GREGORIAN
BEGIN:VEVENT
DTEND:20240307T201500Z
UID:69e6036d960f8
DTSTAMP:20260420T104357Z
CATEGORIES:Chamber Events
LOCATION:BMO 
DESCRIPTION:Join the Norwalk\, La Mirada\, La Habra and Whittier Chambers for a networking mixer on Thursday\, March 7th from 6:15pm to 8:15pm at BMO.  Address is 12709 Valley View Ave in La Mirada.
URL;VALUE=URI:https://norwalkchamber.com/event/multi-chamber-networking-mixer-at-bmo/
SUMMARY:Multi Chamber Networking Mixer at BMO
DTSTART:20240307T181500Z
END:VEVENT
END:VCALENDAR
