BEGIN:VCALENDAR
VERSION:2.0
PRODID:-//CHAMBER DASHBOARD//EVENTS CALENDAR2.0//EN
CALSCALE:GREGORIAN
BEGIN:VEVENT
DTEND:20230223T190000Z
UID:69e5ead4df356
DTSTAMP:20260420T085900Z
CATEGORIES:Chamber Events
LOCATION:Bruce's Prime Ribs 12623 Imperial Highway, Santa Fe Springs, CA, 90670, USA
DESCRIPTION:Join in with the Norwalk\, La Mirada\, Pico Rivera\, and Santa Fe Springs Chambers for a networking mixer at Bruce's Prime Rib and Spirits.  RSVP to info@norwalkchamber.com to attend.  All are welcome.
URL;VALUE=URI:https://norwalkchamber.com/event/multi-chamber-networking-mixer/
SUMMARY:Multi Chamber Networking Mixer
DTSTART:20230223T170000Z
END:VEVENT
END:VCALENDAR
