BEGIN:VCALENDAR
VERSION:2.0
PRODID:-//CHAMBER DASHBOARD//EVENTS CALENDAR2.0//EN
CALSCALE:GREGORIAN
BEGIN:VEVENT
DTEND:20260211T190000Z
UID:69e5ec01abb49
DTSTAMP:20260420T090401Z
CATEGORIES:Chamber Events
LOCATION:Norwalk Chamber of Commerce 
DESCRIPTION:You are invited to a New Member "Meet &amp\; Greet" at the Norwalk Chamber Office on Wednesday\, February 11th\, 2026 from 5:30pm to 7pm.  Light refreshments will be served.  Come on out and meet our Chamber leaders while finding out how you can utilize your Chamber Member benefits.
URL;VALUE=URI:https://norwalkchamber.com/event/new-member-meet-greet/
SUMMARY:New Member Meet &amp\; Greet
DTSTART:20260211T173000Z
END:VEVENT
END:VCALENDAR
