BEGIN:VCALENDAR
VERSION:2.0
PRODID:-//CHAMBER DASHBOARD//EVENTS CALENDAR2.0//EN
CALSCALE:GREGORIAN
BEGIN:VEVENT
DTEND:20250806T190000Z
UID:69e5e7a595060
DTSTAMP:20260420T084525Z
CATEGORIES:Chamber Events
LOCATION:Norwalk Sports Complex - 13000 Clarkdale Ave., Norwalk CA 90650 
DESCRIPTION:Sign up today to participate in the upcoming Norwalk Chamber Business Expo.&nbsp\; This will take place on Wednesday\, August 6th in conjunction with the City of Norwalk Summer Concert located at Norwalk Park 12155 Sproul St\, Norwalk 90650.
URL;VALUE=URI:https://norwalkchamber.com/event/norwalk-chamber-annual-business-expo-4/
SUMMARY:Norwalk Chamber Annual Business Expo
DTSTART:20250806T163000Z
END:VEVENT
END:VCALENDAR
