BEGIN:VCALENDAR
VERSION:2.0
PRODID:-//CHAMBER DASHBOARD//EVENTS CALENDAR2.0//EN
CALSCALE:GREGORIAN
BEGIN:VEVENT
DTEND:20241211T193000Z
UID:69e5e82de3cb7
DTSTAMP:20260420T084741Z
CATEGORIES:Chamber Events
LOCATION:Norwalk Arts &amp; Sports Complex 13200 Clarkdale Ave., Norwalk, CA, 90650
DESCRIPTION:Be sure and join the Norwalk Chamber as we kick off the Holiday celebrations at our Annual Holiday Mixer at the Norwalk Arts &amp\; Sports Complex. Bring a donation for the Norwalk Food Pantry and be entered into a special raffle. Wear your best Holiday attire and compete in the fun contest for best dressed! Tickets will be on sale for our Ice Chest O'Cheer at the event.
URL;VALUE=URI:https://norwalkchamber.com/event/norwalk-chamber-annual-holiday-mixer/
SUMMARY:Norwalk Chamber Annual Holiday Mixer
DTSTART:20241211T173000Z
END:VEVENT
END:VCALENDAR
