BEGIN:VCALENDAR
VERSION:2.0
PRODID:-//CHAMBER DASHBOARD//EVENTS CALENDAR2.0//EN
CALSCALE:GREGORIAN
BEGIN:VEVENT
DTEND:20250507T120000Z
UID:69e8a25615587
DTSTAMP:20260422T102630Z
CATEGORIES:Chamber Events
LOCATION:El Taco Locco 
DESCRIPTION:Create Connections while having Lunch at El Taco Locco
URL;VALUE=URI:https://norwalkchamber.com/event/norwalk-chambercreating-connections-lunch/
SUMMARY:Norwalk ChamberCreating Connections Lunch
DTSTART:20250507T120000Z
END:VEVENT
END:VCALENDAR
