BEGIN:VCALENDAR
VERSION:2.0
PRODID:-//CHAMBER DASHBOARD//EVENTS CALENDAR2.0//EN
CALSCALE:GREGORIAN
BEGIN:VEVENT
DTEND:20260418T120000Z
UID:69e88c6125403
DTSTAMP:20260422T085249Z
CATEGORIES:Community Events
LOCATION:Norwalk Arts &amp; Sports Complex 13200 Clarkdale Ave., Norwalk, CA, 90650
DESCRIPTION:Saturday\, April 18th from 9am to 12pm in partnership with Athens Services\, Labor Community Services and Water Replenishment District\, will be a drive through food distribution event.  First come\, first served. 12440 Imperial Hwy\, in the Social Security Administration Lot.  Entrance is on Bloomfield Ave.
URL;VALUE=URI:https://norwalkchamber.com/event/norwalk-lions-club-pancake-breakfast/
SUMMARY:Norwalk Lions Food Distribution Event
DTSTART:20260418T090000Z
END:VEVENT
END:VCALENDAR
