BEGIN:VCALENDAR
VERSION:2.0
PRODID:-//CHAMBER DASHBOARD//EVENTS CALENDAR2.0//EN
CALSCALE:GREGORIAN
BEGIN:VEVENT
DTEND:20241115T120000Z
UID:69e60540b1403
DTSTAMP:20260420T105144Z
CATEGORIES:Community Events
LOCATION:13601 San Antonio Dr., Norwalk, CA 90650 
DESCRIPTION:City of Norwalk announces Norwalk Veterans Villas Ribbon Cutting Event!
URL;VALUE=URI:https://norwalkchamber.com/event/norwalk-veterans-villas-ribbon-cutting-ceremony/
SUMMARY:Norwalk Veterans Villas Ribbon Cutting Ceremony
DTSTART:20241115T100000Z
END:VEVENT
END:VCALENDAR
