BEGIN:VCALENDAR
VERSION:2.0
PRODID:-//CHAMBER DASHBOARD//EVENTS CALENDAR2.0//EN
CALSCALE:GREGORIAN
BEGIN:VEVENT
DTEND:20241104T100000Z
UID:69e5ee475afd1
DTSTAMP:20260420T091343Z
CATEGORIES:Chamber Events
LOCATION:Starbucks Coffee 11790 Firestone Blvd. Norwalk CA 90650 
DESCRIPTION:Join us as we celebrate the successes of our Paint the Town Pink Campaign.Donations will still be accepted through the end of the year.
URL;VALUE=URI:https://norwalkchamber.com/event/paint-the-town-pink-wrap-up-eventhosted-by-starbucks-coffee/
SUMMARY:Paint the Town PINK Wrap-Up Event Hosted by Starbucks Coffee
DTSTART:20241104T100000Z
END:VEVENT
END:VCALENDAR
