BEGIN:VCALENDAR
VERSION:2.0
PRODID:-//CHAMBER DASHBOARD//EVENTS CALENDAR2.0//EN
CALSCALE:GREGORIAN
BEGIN:VEVENT
DTEND:20241119T080000Z
UID:69e603a035a2c
DTSTAMP:20260420T104448Z
CATEGORIES:Chamber Events
LOCATION:Raising Cane's - 12618 Studebaker Rd, Norwalk, CA 90650 
DESCRIPTION:Come out on Tuesday\, November 19th at 7am to register for the opportunity to win free Cane's for a year\, then stay for the Ribbon Cutting Event which will follow.
URL;VALUE=URI:https://norwalkchamber.com/event/raising-canes-ribbon-cutting/
SUMMARY:Raising Cane&#039\;s Ribbon Cutting
DTSTART:20241119T080000Z
END:VEVENT
END:VCALENDAR
