BEGIN:VCALENDAR
VERSION:2.0
PRODID:-//CHAMBER DASHBOARD//EVENTS CALENDAR2.0//EN
CALSCALE:GREGORIAN
BEGIN:VEVENT
DTEND:20250517T170000Z
UID:69e88bbeabe8c
DTSTAMP:20260422T085006Z
CATEGORIES:Community Events
LOCATION:La Jara Brewery Co. 
DESCRIPTION:For the Benefit of Veteran Suicide PreventionLive Music\, Food &amp\; Drink\, and MORE!
URL;VALUE=URI:https://norwalkchamber.com/event/rally-point-2025-fundraiser/
SUMMARY:Rally Point 2025 Fundraiser
DTSTART:20250517T130000Z
END:VEVENT
END:VCALENDAR
