BEGIN:VCALENDAR
VERSION:2.0
PRODID:-//CHAMBER DASHBOARD//EVENTS CALENDAR2.0//EN
CALSCALE:GREGORIAN
BEGIN:VEVENT
DTEND:20241010T160000Z
UID:69e60336a7746
DTSTAMP:20260420T104302Z
CATEGORIES:Community Events
LOCATION:The Centre - 5000 Clark Ave, Lakewood CA 90712 
DESCRIPTION:Gateway Cities Council of Governments is hosting two Regional Seminars to discuss resources and opportunities for businessesin Southeast Los Angeles County.
URL;VALUE=URI:https://norwalkchamber.com/event/regional-seminar-economic-development-summit/
SUMMARY:Regional Seminar: Economic Development Summit
DTSTART:20241010T130000Z
END:VEVENT
END:VCALENDAR
