BEGIN:VCALENDAR
VERSION:2.0
PRODID:-//CHAMBER DASHBOARD//EVENTS CALENDAR2.0//EN
CALSCALE:GREGORIAN
BEGIN:VEVENT
DTEND:20241010T120000Z
UID:69e5eb0cdea13
DTSTAMP:20260420T085956Z
CATEGORIES:Community Events
LOCATION:The Centre - 5000 Clark Ave, Lakewood CA 90712 
DESCRIPTION:Gateway Cities Council of Governments is hosting two Regional Seminars to discuss resources and opportunities for businessesin Southeast Los Angeles County.
URL;VALUE=URI:https://norwalkchamber.com/event/regional-seminar/
SUMMARY:Regional Seminar: Workforce Development Seminar II
DTSTART:20241010T090000Z
END:VEVENT
END:VCALENDAR
