BEGIN:VCALENDAR
VERSION:2.0
PRODID:-//CHAMBER DASHBOARD//EVENTS CALENDAR2.0//EN
CALSCALE:GREGORIAN
BEGIN:VEVENT
DTEND:20250724T120000Z
UID:69e61b271a2e8
DTSTAMP:20260420T122511Z
CATEGORIES:Community Events
LOCATION:ZOOM 
DESCRIPTION:LET'S TALK TRASH!Attendees are eligible to win FREE Green Organic Slim Jim trash containers.
URL;VALUE=URI:https://norwalkchamber.com/event/see-the-flyer-below-for-further-details/
SUMMARY:Athens Services: Free Business Waste Compliance Webinar
DTSTART:20250724T120000Z
END:VEVENT
END:VCALENDAR
