BEGIN:VCALENDAR
VERSION:2.0
PRODID:-//CHAMBER DASHBOARD//EVENTS CALENDAR2.0//EN
CALSCALE:GREGORIAN
BEGIN:VEVENT
DTEND:20251129T100000Z
UID:69e5ec3e6c60b
DTSTAMP:20260420T090502Z
CATEGORIES:Chamber Events
LOCATION:Norwalk Chamber of Commerce 
DESCRIPTION:Shop safely this Holiday Season and brighten up the seasonby SHOPPING SMALL with us!Drop on in to the Norwalk Chamber to learn what it means toSHOP SMALL and also enjoy some refreshments.LET'S GO SHOP SMALL!
URL;VALUE=URI:https://norwalkchamber.com/event/small-business-saturday-3/
SUMMARY:Small Business Saturday
DTSTART:20251129T093000Z
END:VEVENT
END:VCALENDAR
