BEGIN:VCALENDAR
VERSION:2.0
PRODID:-//CHAMBER DASHBOARD//EVENTS CALENDAR2.0//EN
CALSCALE:GREGORIAN
BEGIN:VEVENT
DTEND:20250301T140000Z
UID:69e5ec9f6f932
DTSTAMP:20260420T090639Z
CATEGORIES:Community Events
LOCATION:Norwalk Arts &amp; Sports Complex 13200 Clarkdale Ave., Norwalk, CA, 90650
DESCRIPTION:Bring your friends for LUNCH\, FUN and PRIZES!Bring your quarters for chances to WIN!SHOP &amp\; WIN!
URL;VALUE=URI:https://norwalkchamber.com/event/soroptimist-internationals-quarter-mania/
SUMMARY:Soroptimist International&#039\;s Quarter Mania
DTSTART:20250301T103000Z
END:VEVENT
END:VCALENDAR
