BEGIN:VCALENDAR
VERSION:2.0
PRODID:-//CHAMBER DASHBOARD//EVENTS CALENDAR2.0//EN
CALSCALE:GREGORIAN
BEGIN:VEVENT
DTEND:20250924T180000Z
UID:69e6046591363
DTSTAMP:20260420T104805Z
CATEGORIES:Community Events
LOCATION:11121 Bloomfield Ave., Santa Fe Springs, CA 90670 
DESCRIPTION:Soroptimist Int'l of Norwalk/Santa Fe Springs invites everyone to help women transform their lives. Donate gently used clothing (all sizes)\,feminine hygiene items\, suitcases &amp\; new underwear.
URL;VALUE=URI:https://norwalkchamber.com/event/soroptimist-investing-in-dreams/
SUMMARY:SOROPTIMIST Investing in Dreams
DTSTART:20250924T180000Z
END:VEVENT
END:VCALENDAR
