BEGIN:VCALENDAR
VERSION:2.0
PRODID:-//CHAMBER DASHBOARD//EVENTS CALENDAR2.0//EN
CALSCALE:GREGORIAN
BEGIN:VEVENT
DTEND:20250814T193000Z
UID:69e5ec022565f
DTSTAMP:20260420T090402Z
CATEGORIES:Community Events
LOCATION:Southern California Gas Company 
DESCRIPTION:Gateway Chambers Alliance is hosting a Spotlight on the Gateway Region on Thursday\, August 14th\, 5:30pm to 7:30pm at the Southern California Gas Company building in Downey.
URL;VALUE=URI:https://norwalkchamber.com/event/spotlight-on-the-gateway-region/
SUMMARY:Spotlight on the Gateway Region
DTSTART:20250814T173000Z
END:VEVENT
END:VCALENDAR
