BEGIN:VCALENDAR
VERSION:2.0
PRODID:-//CHAMBER DASHBOARD//EVENTS CALENDAR2.0//EN
CALSCALE:GREGORIAN
BEGIN:VEVENT
DTEND:20250927T140000Z
UID:69e65e31d242d
DTSTAMP:20260420T171113Z
CATEGORIES:Community Events
LOCATION:St. Linus School 
DESCRIPTION:Vendors\, Music\, Food\, &amp\; Good Times!
URL;VALUE=URI:https://norwalkchamber.com/event/st-linus-school-chingona-4th-annual-car-reyes-community-funding-car-show/
SUMMARY:ST. LINUS SCHOOL + CHINGONA 4th Annual &quot\;Car Reyes&quot\; Community Funding Car Show
DTSTART:20250927T100000Z
END:VEVENT
END:VCALENDAR
