BEGIN:VCALENDAR
VERSION:2.0
PRODID:-//CHAMBER DASHBOARD//EVENTS CALENDAR2.0//EN
CALSCALE:GREGORIAN
BEGIN:VEVENT
DTEND:20250924T210000Z
UID:69e5ee7477389
DTSTAMP:20260420T091428Z
CATEGORIES:Community Events
LOCATION:Norwalk Arts &amp; Sports Complex 13200 Clarkdale Ave., Norwalk, CA, 90650
DESCRIPTION:The BIGGEST EXPO FOR HISPANIC BUSINESS OWNERS!Workshops\, Effective Advertising\, and MORE!
URL;VALUE=URI:https://norwalkchamber.com/event/su-socio-de-negocios-business-expo-2/
SUMMARY:Su Socio De Negocios Business Expo
DTSTART:20250924T170000Z
END:VEVENT
END:VCALENDAR
