BEGIN:VCALENDAR
VERSION:2.0
PRODID:-//CHAMBER DASHBOARD//EVENTS CALENDAR2.0//EN
CALSCALE:GREGORIAN
BEGIN:VEVENT
DTEND:20250430T210000Z
UID:69e88b950f5d4
DTSTAMP:20260422T084925Z
CATEGORIES:Community Events
LOCATION:Norwalk Arts &amp; Sports Complex 13200 Clarkdale Ave., Norwalk, CA, 90650
DESCRIPTION:The Expo for Hispanic Business Owners and Entrepreneurs!Learn from successful Latino Business Owners!
URL;VALUE=URI:https://norwalkchamber.com/event/su-socio-de-negocios-expo/
SUMMARY:SU SOCIO DE NEGOCIOS EXPO
DTSTART:20250430T170000Z
END:VEVENT
END:VCALENDAR
