BEGIN:VCALENDAR
VERSION:2.0
PRODID:-//CHAMBER DASHBOARD//EVENTS CALENDAR2.0//EN
CALSCALE:GREGORIAN
BEGIN:VEVENT
DTEND:20240321T180000Z
UID:69e8a2b3c0bf9
DTSTAMP:20260422T102803Z
CATEGORIES:Chamber Events
LOCATION:11142 E. Artesia Blvd., Cerritos, CA 90703 
DESCRIPTION:Join the Cerritos Regional\, Greater Lakewood\, and Norwalk Chambers of Commerce for an "After Hours" Mixer hosted by Artesia Cemetery District.
URL;VALUE=URI:https://norwalkchamber.com/event/tri-chamber-mixer/
SUMMARY:Tri-Chamber Mixer
DTSTART:20240321T163000Z
END:VEVENT
END:VCALENDAR
