BEGIN:VCALENDAR
VERSION:2.0
PRODID:-//CHAMBER DASHBOARD//EVENTS CALENDAR2.0//EN
CALSCALE:GREGORIAN
BEGIN:VEVENT
DTEND:20260313T110000Z
UID:69e5ec6753551
DTSTAMP:20260420T090543Z
CATEGORIES:Chamber Events
LOCATION:Double Tree by Hilton, Norwalk Los Angeles 13111 Sycamore Dr., Norwalk, CA, 90650, USA
DESCRIPTION:Join the Norwalk Chamber at our Women's Leadership Breakfast.  You will hear from inspiring women leaders about their journey in leadership and how to be bold\, brave\, break down barriers and believe in your potential.
URL;VALUE=URI:https://norwalkchamber.com/event/womens-leadership-breakfast/
SUMMARY:Women&#039\;s Leadership Breakfast
DTSTART:20260313T090000Z
END:VEVENT
END:VCALENDAR
