BEGIN:VCALENDAR
VERSION:2.0
PRODID:-//CHAMBER DASHBOARD//EVENTS CALENDAR2.0//EN
CALSCALE:GREGORIAN
BEGIN:VEVENT
DTEND:20251205T090000Z
UID:69e5eeea07070
DTSTAMP:20260420T091626Z
CATEGORIES:Community Events
LOCATION:Uptown Whittier Family YMCA 
DESCRIPTION:The YMCA of Greater Whittier warmly invites the community to its cherished tradition\, the Christmas Prayer Breakfast. Celebrating its 45th year\, this annual event is a time of joy and fellowship\, where attendees can savor delicious food\, strengthen community bonds\, and listen to inspirational stories that embody the spirit of giving.
URL;VALUE=URI:https://norwalkchamber.com/event/ymca-of-greater-whittier-season-of-giving-45th-annual-christmas-prayer-breakfast/
SUMMARY:YMCA of Greater Whittier Season of Giving 46th Annual Christmas Prayer Breakfast
DTSTART:20251205T070000Z
END:VEVENT
END:VCALENDAR
