BEGIN:VCALENDAR
VERSION:2.0
PRODID:-//CHAMBER DASHBOARD//EVENTS CALENDAR2.0//EN
CALSCALE:GREGORIAN
BEGIN:VEVENT
DTEND:20250927T120000Z
UID:69e64bf0efce1
DTSTAMP:20260420T155320Z
CATEGORIES:Community Events
LOCATION:Liberty Community Plaza 
DESCRIPTION:This is not just any walk\; it's a community effort to raise awareness about youth suicide\, the importance of mental health and providing support.
URL;VALUE=URI:https://norwalkchamber.com/event/youth-suicide-awareness-walk-2/
SUMMARY:YOUTH SUICIDE AWARENESS WALK
DTSTART:20250927T090000Z
END:VEVENT
END:VCALENDAR
